BEGIN:VCALENDAR
VERSION:2.0
PRODID:icalendar-ruby
CALSCALE:GREGORIAN
METHOD:PUBLISH
BEGIN:VEVENT
DTSTAMP:20260422T225021Z
UID:76-1610895@altoonaalliancechurch.com
DTSTART:20261022T223000Z
DTEND:20261023T000000Z
CLASS:PUBLIC
CREATED:20260422T160500
DESCRIPTION:Christ-Centered. Boy-Focused.\nTrail Life USA is a Church-Based
 \, Christ-Centered\, Boy-Focused mentoring and discipleship journey that s
 peaks to the heart of a boy. Established on timeless values derived from t
 he Bible and set in the context of outdoor adventure\, boys from age 5 to 
 17 are engaged in a Troop setting by male mentors where they are challenge
 d to grow in character\, understand their purpose\, serve their community\
 , and develop practical leadership skills to carry out the mission for whi
 ch they were created.\nWe meet the first three Thursdays of the month from
  6:30-8:00pm.\nTrail Life USA - Click here for more information\n 
LAST-MODIFIED:20260422T160500
LOCATION:3220 Pleasant Valley Blvd\, Altoona\, Pa 16602
SUMMARY:Trail Life USA
URL;VALUE=URI:https://www.altoonaalliancechurch.com/events/trail-life-usa/2
 026-10-22
ATTACH;FILENAME=Trail Life - 2.png;FMTTYPE=image/png:https://dq5pwpg1q8ru0.
 cloudfront.net/2024/10/09/18/23/29/6c3670ec-2a77-49fd-938b-5fb4e709c162/Tr
 ail%20Life%20-%202.png
END:VEVENT
END:VCALENDAR
