BEGIN:VCALENDAR
VERSION:2.0
PRODID:icalendar-ruby
CALSCALE:GREGORIAN
METHOD:PUBLISH
BEGIN:VEVENT
DTSTAMP:20260423T000717Z
UID:43-1611328@altoonaalliancechurch.com
DTSTART:20261017T123000Z
DTEND:20261017T150000Z
CLASS:PUBLIC
CREATED:20260422T185815
DESCRIPTION:Join us Saturday mornings as we come together for our weekly La
 dies Bible Study.  If you are looking for fellowship\, prayer and the stu
 dy of God's Word\, this is the place for you! \nWe meet during the months
  of Sept - May\, each Saturday morning from 8:30am-11:00am.  \nHope to s
 ee you there!
LAST-MODIFIED:20260422T185815
LOCATION:Altoona Alliance Church Cafe
SUMMARY:Ladies' Bible Study
URL;VALUE=URI:https://www.altoonaalliancechurch.com/events/ladies-bible-stu
 dy/2026-10-17
ATTACH;FILENAME=Ladies bible study.png;FMTTYPE=image/png:https://dq5pwpg1q8
 ru0.cloudfront.net/2022/03/11/03/12/20/a8c4ee9e-c8b1-43f4-8f0a-8811911a305
 1/Ladies%20bible%20study.png
END:VEVENT
END:VCALENDAR
