BEGIN:VCALENDAR
VERSION:2.0
PRODID:icalendar-ruby
CALSCALE:GREGORIAN
METHOD:PUBLISH
BEGIN:VEVENT
DTSTAMP:20260422T114013Z
UID:77-1607440@altoonaalliancechurch.com
DTSTART:20261029T223000Z
DTEND:20261030T000000Z
CLASS:PUBLIC
CREATED:20260422T071951
DESCRIPTION:Building Women of Integrity\n\nAmerican Heritage Girls is a Ch
 rist-centered character and leadership development program for girls 5 to 
 18 years of age. AHG is dedicated to the mission of building women of inte
 grity through service to God\, family\, community\, and country.\nWe meet 
 the first three Thursdays of the month from 6:30-8:00pm\nAmerican Heritage
  Girls - Click here for more information\n
LAST-MODIFIED:20260422T071951
LOCATION:3220 Pleasant Valley Blvd\, Altoona\, Pa 16602
SUMMARY:American Heritage Girls
URL;VALUE=URI:https://www.altoonaalliancechurch.com/events/american-heritag
 e-girls/2026-10-29
ATTACH;FILENAME=Heritage girls.jpg;FMTTYPE=image/jpeg:https://dq5pwpg1q8ru0
 .cloudfront.net/2024/10/09/18/28/10/116d89c9-dfe1-429c-a76e-713887a999a3/H
 eritage%20girls.jpg
END:VEVENT
END:VCALENDAR
